BEGIN:VCALENDAR
VERSION:2.0
PRODID:-//ChamberMaster//Event Calendar 2.0//EN
METHOD:PUBLISH
X-PUBLISHED-TTL:P1H
REFRESH-INTERVAL:P1H
CALSCALE:GREGORIAN
BEGIN:VTIMEZONE
TZID:America/New_York
BEGIN:DAYLIGHT
RRULE:FREQ=YEARLY;BYMONTH=3;BYDAY=2SU
DTSTART:20070101T000000
TZOFFSETFROM:-0500
TZOFFSETTO:-0400
TZNAME:Eastern Daylight Time
END:DAYLIGHT
BEGIN:STANDARD
RRULE:FREQ=YEARLY;BYMONTH=11;BYDAY=1SU
DTSTART:20070101T000000
TZOFFSETFROM:-0400
TZOFFSETTO:-0500
TZNAME:Eastern Standard Time
END:STANDARD
END:VTIMEZONE
BEGIN:VEVENT
DTSTART;TZID=America/New_York:20260508T100000
DTEND;TZID=America/New_York:20260508T110000
X-MICROSOFT-CDO-ALLDAYEVENT:FALSE
SUMMARY:Coffee Talk for Religious Orders with Sister Kathleen & Leslie! (May 2026)
DESCRIPTION:Working in development for a faith-based organization is more than a job it's a calling. But that calling comes with unique challenges that few understand. Where do you go when you need advice from someone who just gets it?Welcome to Coffee Talk. This isn't another webinar\; it's a living conversation. Each month\, we bring development professionals together to connect\, collaborate\, and grow in a confidential\, member-led environment. Hosted by your peers\, Sr. Kathleen and Leslie\, we dive into relevant topics that matter to you right now\, blending practical strategy with the spiritual encouragement needed to sustain your work. Come as you are\, bring your challenges\, and leave refreshed and better equipped for your mission.What to Expect:Peer-to-Peer Dialogue: Authentic\, unscripted conversations led by fellow members.Relevant Topics: A new\, practical theme each month\, from nurturing donor relationships to navigating ministry wellness.Supportive Community: A safe space to ask tough questions\, share struggles\, and celebrate wins with professionals who share your values.Actionable Encouragement: Walk away with both practical ideas to implement and the spiritual fuel to continue your important work.
X-ALT-DESC;FMTTYPE=text/html:<!DOCTYPE html><html><head><title></title></head><body aria-disabled="false"><p><br></p><hr fr-original-style="" style="clear: both\; user-select: none\; break-after: page\;"><p><span style="font-family: Arial\, Helvetica\, sans-serif\; font-size: 18px\;">Working in development for a faith-based organization is more than a job&mdash\;it&rsquo\;s a calling. But that calling comes with unique challenges that few understand. Where do you go when you need advice from someone who just <em style='box-sizing: border-box\; padding: 0px\; margin: 0px\; line-height: 1.57143\; letter-spacing: -0.02em\; font-family: Ballinger\, apple-system\, "Helvetica Neue"\, Helvetica\, Arial\, sans-serif\;'>gets it</em>?</span></p><p style='box-sizing: border-box\; padding: 0px\; margin: 0px 0px 20px\; line-height: 1.57143\; letter-spacing: -0.32px\; font-family: Ballinger\, apple-system\, "Helvetica Neue"\, Helvetica\, Arial\, sans-serif\; color: rgb(0\, 0\, 0)\; font-size: medium\; font-style: normal\; font-variant-ligatures: normal\; font-variant-caps: normal\; font-weight: 400\; orphans: 2\; text-align: start\; text-indent: 0px\; text-transform: none\; widows: 2\; word-spacing: 0px\; -webkit-text-stroke-width: 0px\; white-space: normal\; background-color: rgb(255\, 255\, 255)\; text-decoration-thickness: initial\; text-decoration-style: initial\; text-decoration-color: initial\;'><span style="font-size: 18px\;"><span style="font-family: Arial\,Helvetica\,sans-serif\;">Welcome to Coffee Talk. This isn&#39\;t another webinar\; it&#39\;s a living conversation. Each month\, we bring development professionals together to c<strong fr-original-style="" style="font-weight: 700\;">onnect\, collaborate\, and grow</strong> in a confidential\, member-led environment. Hosted by your peers\, Sr. Kathleen and Leslie\, we dive into relevant topics that matter to you right now\, <strong fr-original-style="" style="font-weight: 700\;">blending practical strategy with the spiritual encouragement&nbsp\;</strong>needed to sustain your work. Come as you are\, bring your challenges\, and leave refreshed and better equipped for your mission.</span></span></p><p style='box-sizing: border-box\; padding: 0px\; margin: 0px 0px 15px\; line-height: 1.57143\; letter-spacing: -0.32px\; font-family: Ballinger\, apple-system\, "Helvetica Neue"\, Helvetica\, Arial\, sans-serif\; color: rgb(0\, 0\, 0)\; font-size: medium\; font-style: normal\; font-variant-ligatures: normal\; font-variant-caps: normal\; font-weight: 400\; orphans: 2\; text-align: start\; text-indent: 0px\; text-transform: none\; widows: 2\; word-spacing: 0px\; -webkit-text-stroke-width: 0px\; white-space: normal\; background-color: rgb(255\, 255\, 255)\; text-decoration-thickness: initial\; text-decoration-style: initial\; text-decoration-color: initial\;'><span style="font-size: 18px\;"><span style="font-family: Arial\,Helvetica\,sans-serif\;"><strong fr-original-style='box-sizing: border-box\; padding: 0px\; margin: 0px\; line-height: 1.57143\; letter-spacing: -0.02em\; font-family: Ballinger\, apple-system\, "Helvetica Neue"\, Helvetica\, Arial\, sans-serif\; font-weight: 700\;' style='box-sizing: border-box\; padding: 0px\; margin: 0px\; line-height: 1.57143\; letter-spacing: -0.02em\; font-family: Ballinger\, apple-system\, "Helvetica Neue"\, Helvetica\, Arial\, sans-serif\; font-weight: 700\;'>What to Expect:</strong></span></span></p><ul fr-original-style='box-sizing: border-box\; padding: 0px\; margin: 0px 0px 20px 20px\; line-height: 1.57143\; letter-spacing: -0.32px\; font-family: Ballinger\, apple-system\, "Helvetica Neue"\, Helvetica\, Arial\, sans-serif\; list-style: disc\; color: rgb(0\, 0\, 0)\; font-size: medium\; font-style: normal\; font-variant-ligatures: normal\; font-variant-caps: normal\; font-weight: 400\; orphans: 2\; text-align: start\; text-indent: 0px\; text-transform: none\; widows: 2\; word-spacing: 0px\; -webkit-text-stroke-width: 0px\; white-space: normal\; background-color: rgb(255\, 255\, 255)\; text-decoration-thickness: initial\; text-decoration-style: initial\; text-decoration-color: initial\;' style='box-sizing: border-box\; padding: 0px\; margin: 0px 0px 20px 20px\; line-height: 1.57143\; letter-spacing: -0.32px\; font-family: Ballinger\, apple-system\, "Helvetica Neue"\, Helvetica\, Arial\, sans-serif\; list-style: disc\; color: rgb(0\, 0\, 0)\; font-size: medium\; font-style: normal\; font-variant-ligatures: normal\; font-variant-caps: normal\; font-weight: 400\; orphans: 2\; text-align: start\; text-indent: 0px\; text-transform: none\; widows: 2\; word-spacing: 0px\; -webkit-text-stroke-width: 0px\; white-space: normal\; background-color: rgb(255\, 255\, 255)\; text-decoration-thickness: initial\; text-decoration-style: initial\; text-decoration-color: initial\;'><li style="box-sizing: border-box\; padding: 0px\; margin: 0px 10px 15px\; line-height: 1.57143\; letter-spacing: -0.02em\; font-family: Arial\, Helvetica\, sans-serif\; font-size: 18px\;"><strong fr-original-style='box-sizing: border-box\; padding: 0px\; margin: 0px\; line-height: 1.57143\; letter-spacing: -0.02em\; font-family: Ballinger\, apple-system\, "Helvetica Neue"\, Helvetica\, Arial\, sans-serif\; font-weight: 700\;' style='box-sizing: border-box\; padding: 0px\; margin: 0px\; line-height: 1.57143\; letter-spacing: -0.02em\; font-family: Ballinger\, apple-system\, "Helvetica Neue"\, Helvetica\, Arial\, sans-serif\; font-weight: 700\;'>Peer-to-Peer Dialogue:</strong> Authentic\, unscripted conversations led by fellow members.</li><li style="box-sizing: border-box\; padding: 0px\; margin: 0px 10px 15px\; line-height: 1.57143\; letter-spacing: -0.02em\; font-family: Arial\, Helvetica\, sans-serif\; font-size: 18px\;"><strong fr-original-style='box-sizing: border-box\; padding: 0px\; margin: 0px\; line-height: 1.57143\; letter-spacing: -0.02em\; font-family: Ballinger\, apple-system\, "Helvetica Neue"\, Helvetica\, Arial\, sans-serif\; font-weight: 700\;' style='box-sizing: border-box\; padding: 0px\; margin: 0px\; line-height: 1.57143\; letter-spacing: -0.02em\; font-family: Ballinger\, apple-system\, "Helvetica Neue"\, Helvetica\, Arial\, sans-serif\; font-weight: 700\;'>Relevant Topics:</strong> A new\, practical theme each month\, from nurturing donor relationships to navigating ministry wellness.</li><li style="box-sizing: border-box\; padding: 0px\; margin: 0px 10px 15px\; line-height: 1.57143\; letter-spacing: -0.02em\; font-family: Arial\, Helvetica\, sans-serif\; font-size: 18px\;"><strong fr-original-style='box-sizing: border-box\; padding: 0px\; margin: 0px\; line-height: 1.57143\; letter-spacing: -0.02em\; font-family: Ballinger\, apple-system\, "Helvetica Neue"\, Helvetica\, Arial\, sans-serif\; font-weight: 700\;' style='box-sizing: border-box\; padding: 0px\; margin: 0px\; line-height: 1.57143\; letter-spacing: -0.02em\; font-family: Ballinger\, apple-system\, "Helvetica Neue"\, Helvetica\, Arial\, sans-serif\; font-weight: 700\;'>Supportive Community:</strong> A safe space to ask tough questions\, share struggles\, and celebrate wins with professionals who share your values.</li><li style="box-sizing: border-box\; padding: 0px\; margin: 0px 10px 15px\; line-height: 1.57143\; letter-spacing: -0.02em\; font-family: Arial\, Helvetica\, sans-serif\; font-size: 18px\;"><strong fr-original-style='box-sizing: border-box\; padding: 0px\; margin: 0px\; line-height: 1.57143\; letter-spacing: -0.02em\; font-family: Ballinger\, apple-system\, "Helvetica Neue"\, Helvetica\, Arial\, sans-serif\; font-weight: 700\;' style='box-sizing: border-box\; padding: 0px\; margin: 0px\; line-height: 1.57143\; letter-spacing: -0.02em\; font-family: Ballinger\, apple-system\, "Helvetica Neue"\, Helvetica\, Arial\, sans-serif\; font-weight: 700\;'>Actionable Encouragement:</strong> Walk away with both practical ideas to implement and the spiritual fuel to continue your important work.</li></ul></body></html>
LOCATION:
UID:e.1335.1375807
SEQUENCE:3
DTSTAMP:20260421T024731Z
URL:https://members.tnpa.org/events/Details/coffee-talk-for-religious-orders-with-sister-kathleen-leslie-may-2026-1624131?sourceTypeId=Hub
END:VEVENT
END:VCALENDAR
