BEGIN:VCALENDAR
VERSION:2.0
PRODID:-//ChamberMaster//Event Calendar 2.0//EN
METHOD:PUBLISH
X-PUBLISHED-TTL:P1H
REFRESH-INTERVAL:P1H
CALSCALE:GREGORIAN
BEGIN:VTIMEZONE
TZID:America/New_York
BEGIN:DAYLIGHT
RRULE:FREQ=YEARLY;BYMONTH=3;BYDAY=2SU
DTSTART:20070101T000000
TZOFFSETFROM:-0500
TZOFFSETTO:-0400
TZNAME:Eastern Daylight Time
END:DAYLIGHT
BEGIN:STANDARD
RRULE:FREQ=YEARLY;BYMONTH=11;BYDAY=1SU
DTSTART:20070101T000000
TZOFFSETFROM:-0400
TZOFFSETTO:-0500
TZNAME:Eastern Standard Time
END:STANDARD
END:VTIMEZONE
BEGIN:VEVENT
DTSTART;VALUE=DATE:20260914
DTEND;VALUE=DATE:20260917
TRANSP:TRANSPARENT
X-MICROSOFT-CDO-ALLDAYEVENT:TRUE
SUMMARY:TNPA Leadership Summit 2026
DESCRIPTION:Leadership Summit 2026\nSeptember 14-16\, 2026 | San Antonio\, TXRegistration opens in May 2026. Check back soon for more information.Leadership Summit 2026 will be an intensive\, action-oriented gathering where nonprofit leaders collaborate to address critical challenges facing our sector. Over two powerful days\, you'll work alongside peers to develop practical solutions to protect and advance the vital work nonprofits perform in our communities.Learn more about TNPA's Leadership Summit on our website.----------Leadership Summit attendees come from both nonprofit organizations and consultancies that work alongside nonprofits toward a shared purpose of public engagement and mission impact. Collectively\, this blend of perspectives and influence represents the best of nonprofit sector changemakers.  Reach out to Dominika Brice\, Programs Manager\, with any questions: dbrice@tnpa.org
X-ALT-DESC;FMTTYPE=text/html:<!DOCTYPE html><html><head><title></title></head><body aria-disabled="false"><p><strong fr-original-style="" style="font-weight: 700\;">Leadership Summit 2026<br>September 14-16\, 2026 | San Antonio\, TX</strong></p><div><p><span style="color: rgb(184\, 49\, 47)\;">Registration opens in May 2026. Check back soon for more information.</span></p><p>Leadership Summit 2026 will be an intensive\, action-oriented gathering where nonprofit leaders collaborate to address critical challenges facing our sector. Over two powerful days\, you&rsquo\;ll work alongside peers to develop practical solutions to protect and advance the vital work nonprofits perform in our communities.</p><p>Learn more about TNPA&#39\;s Leadership Summit on <span style="color: rgb(44\, 130\, 201)\;"><a fr-original-style="" href="https://tnpa.org/summit2026/" rel="noopener noreferrer" style="user-select: auto\; color: inherit\;" target="_blank">our website</a></span>.</p><p>----------</p><p>Leadership Summit attendees come from both nonprofit organizations and consultancies that work alongside nonprofits toward a shared purpose of public engagement and mission impact. Collectively\, this blend of perspectives and influence represents the best of nonprofit sector changemakers. &nbsp\;</p><p>Reach out to Dominika Brice\, Programs Manager\, with any questions: <a fr-original-style="" href="mailto:dbrice@tnpa.org" style="user-select: auto\;">dbrice@tnpa.org</a>&nbsp\;</p></div><div><br></div></body></html>
LOCATION:San Antonio TX
UID:e.1335.1270068
SEQUENCE:3
DTSTAMP:20260421T024450Z
URL:https://members.tnpa.org/events/Details/tnpa-leadership-summit-2026-1487031?sourceTypeId=Hub
END:VEVENT
END:VCALENDAR
