BEGIN:VCALENDAR
VERSION:2.0
PRODID:-//ChamberMaster//Event Calendar 2.0//EN
METHOD:PUBLISH
X-PUBLISHED-TTL:P1H
REFRESH-INTERVAL:P1H
CALSCALE:GREGORIAN
BEGIN:VTIMEZONE
TZID:America/New_York
BEGIN:DAYLIGHT
RRULE:FREQ=YEARLY;BYMONTH=3;BYDAY=2SU
DTSTART:20070101T000000
TZOFFSETFROM:-0500
TZOFFSETTO:-0400
TZNAME:Eastern Daylight Time
END:DAYLIGHT
BEGIN:STANDARD
RRULE:FREQ=YEARLY;BYMONTH=11;BYDAY=1SU
DTSTART:20070101T000000
TZOFFSETFROM:-0400
TZOFFSETTO:-0500
TZNAME:Eastern Standard Time
END:STANDARD
END:VTIMEZONE
BEGIN:VEVENT
DTSTART;VALUE=DATE:20261015
DTEND;VALUE=DATE:20261016
TRANSP:TRANSPARENT
X-MICROSOFT-CDO-ALLDAYEVENT:TRUE
SUMMARY:TNPA Rising Leaders Summit 2026
DESCRIPTION:TNPA Rising Leaders Summit\nThursday\, October 15\, 2026  |  Philadelphia\, PARegistration opens in May 2026. Check back soon for more information.The TNPA Rising Leaders Summit blends peer conversations and podium speakers to prepare you for your next level of leadership roles and responsibilities.Rising Leaders Summit kicks off with a Welcome Reception on Wednesday evening and then a full-day of programming on Thursday.Learn more about TNPA's Rising Leaders Summit on our website.Reach out to Dominika Brice\, Programs Manager\, with any questions: dbrice@tnpa.org
X-ALT-DESC;FMTTYPE=text/html:<!DOCTYPE html><html><head><title></title></head><body aria-disabled="false"><p><strong fr-original-style="" style="font-weight: 700\;">TNPA Rising Leaders Summit</strong><br><strong fr-original-style="" style="font-weight: 700\;">Thursday\, October 15\, 2026 &nbsp\;| &nbsp\;Philadelphia\, PA</strong></p><p><span style="color: rgb(184\, 49\, 47)\;">Registration opens in May 2026. Check back soon for more information.</span></p><p>The TNPA Rising Leaders Summit blends peer conversations and podium speakers to prepare you for your next level of leadership roles and responsibilities.</p><p>Rising Leaders Summit kicks off with a Welcome Reception on Wednesday evening and then a full-day of programming on Thursday.</p><p>Learn more about TNPA&#39\;s Rising Leaders Summit on <a fr-original-style="" href="https://tnpa.org/rising2026/" rel="noopener noreferrer" style="user-select: auto\;" target="_blank">our website</a>.</p><p>Reach out to Dominika Brice\, Programs Manager\, with any questions: <a fr-original-style="" href="mailto:dbrice@tnpa.org" style="user-select: auto\;">dbrice@tnpa.org</a></p></body></html>
LOCATION:Philadelphia PA
UID:e.1335.1446542
SEQUENCE:3
DTSTAMP:20260421T024019Z
URL:https://members.tnpa.org/events/Details/tnpa-rising-leaders-summit-2026-1713317?sourceTypeId=Hub
END:VEVENT
END:VCALENDAR
